BEGIN:VCALENDAR
VERSION:2.0
PRODID:-//Praxis für Lösungs-Impulse AG - ECPv6.15.20//NONSGML v1.0//EN
CALSCALE:GREGORIAN
METHOD:PUBLISH
X-WR-CALNAME:Praxis für Lösungs-Impulse AG
X-ORIGINAL-URL:https://loesungs-impulse.ch/ls/
X-WR-CALDESC:Events for Praxis für Lösungs-Impulse AG
REFRESH-INTERVAL;VALUE=DURATION:PT1H
X-Robots-Tag:noindex
X-PUBLISHED-TTL:PT1H
BEGIN:VTIMEZONE
TZID:Europe/Zurich
BEGIN:DAYLIGHT
TZOFFSETFROM:+0100
TZOFFSETTO:+0200
TZNAME:CEST
DTSTART:20240331T010000
END:DAYLIGHT
BEGIN:STANDARD
TZOFFSETFROM:+0200
TZOFFSETTO:+0100
TZNAME:CET
DTSTART:20241027T010000
END:STANDARD
BEGIN:DAYLIGHT
TZOFFSETFROM:+0100
TZOFFSETTO:+0200
TZNAME:CEST
DTSTART:20250330T010000
END:DAYLIGHT
BEGIN:STANDARD
TZOFFSETFROM:+0200
TZOFFSETTO:+0100
TZNAME:CET
DTSTART:20251026T010000
END:STANDARD
BEGIN:DAYLIGHT
TZOFFSETFROM:+0100
TZOFFSETTO:+0200
TZNAME:CEST
DTSTART:20260329T010000
END:DAYLIGHT
BEGIN:STANDARD
TZOFFSETFROM:+0200
TZOFFSETTO:+0100
TZNAME:CET
DTSTART:20261025T010000
END:STANDARD
BEGIN:DAYLIGHT
TZOFFSETFROM:+0100
TZOFFSETTO:+0200
TZNAME:CEST
DTSTART:20270328T010000
END:DAYLIGHT
BEGIN:STANDARD
TZOFFSETFROM:+0200
TZOFFSETTO:+0100
TZNAME:CET
DTSTART:20271031T010000
END:STANDARD
BEGIN:DAYLIGHT
TZOFFSETFROM:+0100
TZOFFSETTO:+0200
TZNAME:CEST
DTSTART:20280326T010000
END:DAYLIGHT
BEGIN:STANDARD
TZOFFSETFROM:+0200
TZOFFSETTO:+0100
TZNAME:CET
DTSTART:20281029T010000
END:STANDARD
END:VTIMEZONE
BEGIN:VEVENT
DTSTART;VALUE=DATE:20250808
DTEND;VALUE=DATE:20260525
DTSTAMP:20260422T023709
CREATED:20241201T120617Z
LAST-MODIFIED:20250809T115923Z
UID:44794-1754640000-1779609599@loesungs-impulse.ch
SUMMARY:Vorbereitungs-Kursfür die Berufs-Prüfung vom BundJob-Beratung\, Start 08.08.2025\, Bern/Freiburg St. Antoni*\, auch online
DESCRIPTION:Du kannst dich bei uns auf die Prüfung vorbereiten. \n\nEs gibt zwei Wege zum Kurs Job-Beratung.  \n\nWeg 1: Du arbeitest schon in der Job-Beratung.Du hast schon 2 Jahre Berufs-Erfahrung. \nWeg 2: Du machst den Kurs bei uns.So findest du leichter einen Job in der Job-Beratung.Dann sammelst du die Berufs-Erfahrung für die Prüfung.\n\nDu kannst vor der Prüfung kostenlos bei uns mit-machen.So bist du gut vorbereitet.  \nWir bieten 2 Vorbereitungs-Tage pro Jahr an.\nEinmal im März\, einmal im September.Du meldest dich dafür an. \nNach dem Kurs bekommst du das Diplom für Job-Beratung \n\n\nDu bist bereit für die Berufs-Prüfung vom Bund.\n\nDas Bund-Diplom gibt die Prüfungs-Kommission.\n\n\nDu musst dafür Unter-Lagen abgeben.Wir helfen dir dabei.  \nDer Bund bezahlt die Hälfte der Kosten.Das gilt\, wenn du die Prüfung vom Bund machst.  \nJob-Beratung hilft Menschen bei der Arbeits-Suche. \n\nWas machst du in der Job-Beratung?\nDu hilfst Menschen mit Schwierigkeiten im Beruf.\nGemeinsam findet ihr gute Ziele.Du arbeitest mit Arbeits-Gebenden und Sozial-Diensten zusammen.     \nNach dem Kurs: \n\nDu findest die Stärken und Wünsche der Menschen.\n\nDie hilfst beim Finden von Zielen.Du hilfst\, einen Job zu finden.\n\nDu arbeitest mit Ämtern und Firmen zusammen.Du schaust\, was jede Person braucht.Du führst Gespräche und machst Pläne.\n\n\nJob-Beratung ist ein moderner Beruf.Du kannst deine Arbeit selbst gestalten.Du kannst in Firmen oder anderen Stellen arbeiten.Oder selbst-ständig werden. \nWas möchtest du machen?\nDu kannst viele Dinge machen.Der Kurs hilft dir im Beruf.Du kannst leichter einen Job finden.Du kannst eine eigene Firma gründen.  \nWir helfen dir im neuen Beruf \nWir helfen dir bei deinem Start.Am Anfang sprichst du mit uns. \nWir planen zusammen deine Lern-Ziele.Du lernst\, worauf es ankommt.  \nWas lernst du?\nViele Dinge für gutes Beraten. \nTeil 1: Aufträge planen und klären \n\nMit der Person ein erstes Gespräch führen\nInfos sammeln\nPlan machen\nArbeits-Start begleiten\nBerichte schreiben\nSchauen\, dass die Person alles Wichtige hat\n\nTeil 2: Menschen gut begleiten \n\nWelcher Beruf ist gut für die Person?\nBei der Arbeits-Suche helfen.Bei der Ausbildungs-Suche helfen.\nBei Vorstellungs-Gesprächen helfen.\nBei der Gleich-Behandlung helfen\nBei Konflikten helfen\nWer kann bei Krisen helfen?\nGute Gespräche führen\nBei Gesprächen ver-mitteln\n\nC: Zusammen-Arbeit \n\nMit Führungs-Kräften\, Ämtern und Firmen zusammen-arbeiten\nTreffen leiten\nMit vielen verschiedenen Menschen arbeiten\nNetz-Werke aufbauen\nFür ein gutes Mit-einander am Arbeits-Platz sorgen\nVerändern\n\n\nWie wird gelernt?\nDu entscheidest:\nDu kannst Teile vom Kurs machen.Oder den ganzen Kurs.Du kannst auch online lernen.   \nWie geht das? \n\nDu kommst zu uns\nDu nimmst online teil\nDu sprichst mit anderen bei uns\nDu sprichst mit anderen online\nIhr arbeitet in der Gruppe\nDu lernst selbst\nDu bekommst Praxis-Aufgaben\nDu lernst mit anderen\nDu bekommst Beratung alleine\nDu bekommst Beratung in der Gruppe\nLern-Beratung\nDu findest Dinge heraus\nDu lernst viel Neues\n\nUnsere Lehr-Kräfte haben viel Erfahrung. \nOnline lernen\nUnsere Lehr-Kräfte wissen viel übers Online-Lernen.    \nWann?\nKurs-Tage:\nKurs 1B/25: März 2025 bis Mai\, 2026 Balsthal\nKurs 1LB/25: März 2025 bis Mai 2026\, Laufenburg\nKurs 1L/25: Mai 2025 bis Mai 2026\, Luterbach\nKurs 3L/25: Juni 2025 bis April 2026\, abensd und samstags\, online\nKurs 2L/25: August 2025 bis Mai 2026\, Luterbach\nKurs 1BEFR/25: August 2025 bis Mai 2026\, Burgbühl/St. Antoni\nKurs 2B/25: November 2025 bis Oktober 2026\, Balsthal\nKurs 2LB/25: November 2025 bis Oktober 2026\, Luterbach\nKurse 1LU/25: November 2025 bis Oktober 2026\, Luzern  \n Wie und wie lange? \nUnterricht – 24 Tage \n\nDu kommst zu uns\nDu nimmst online teil\nDu sprichst mit anderen bei uns\nDu sprichst mit anderen online\n\n  \nDu lernst selbst: bis zu 10 Stunden bei jedem Teil \n\nDu lernst in der Gruppe\nDu lernst selbst\nDu bekommst Praxis-Aufgaben\nDu schaust online Wissen nach\n\n  \nBeratung für dich – 12 Stunden \nIn der Gruppe \n\nLern-Beratung\nDu lernst mit anderen\nGemeinsam geht es leichter\n\n  \nKosten: \nKosten: 7’490 Franken \nLern-Material: 250 Franken\n \nDer Bund hilft: \nDie Hälfte bekommst du vom Bund\, wenn du die Prüfung machst.\nMaximal 3’750 Franken.Lies mehr darüber auf: www.sbfi.admin.ch/bundesbeitraege     \nNeue Regeln: \nDu hast den Kurs Job-Beratung (6 Tage) schon gemacht?  \nDann kannst du Tage an-rechnen lassen.Du bezahlst dann weniger.  \n  \nAnmeldung\nBei: \nPLI® Praxis für Lösungs-Impulse AG \nGeprüfte Schule. \nMehr Info und An-Meldung: \nPraxis für Lösungs-Impulse AG | Industriestrasse 30b | 4542 Luterbach\, Schweiz\nKontakt: info@loesungs-impulse.ch | Telefon 032 530 33 61 \n\nKurs-Tage\nKurse ab März 2025\, vor Ort oder online \nBalsthal: Tiergartenweg 1\, 4710 Balsthal \n Kurs 1B/25  \n\n\n\nFreitags/samstags\nThema 1\nThema 2\nThema 3\nThema 4\n\n\nTeil 1\n07./08.03.2025\n09./10.05.2025\n06./07.06.2025\n15./16.08.2025\n\n\nTeil 2\n19./20.09.2025\n17./18.10.2025\n21./22.11.2025\n09./10.01.2026\n\n\nTeil 3\n20./21.02.2026\n13./14.03.2026\n24./25.04.2026\n15./16.05.2026\n\n\n\n  \n\n\n\nBalsthal:  Tiergartenweg 1\, 4710 Balsthal\n\n\n\n   \nKurs 2B/25  \n\n\n\nFreitags/samstags\nThema 1\nThema 2\nThema 3\nThema 4\n\n\nTeil 1\n07./08.11.2025\n05./06.12.2025\n16./17.01.2026\n30./31.01.2026\n\n\nTeil 2\n06./07.03.2026\n03./04.04.2026\n22./23.05.2026\n05./06.06.2026\n\n\nTeil 3\n26./27.06.2026\n14./15.08.2026\n04./05.09.2026\n16./17.10.2026\n\n\n\n  \n\n\n\nLuterbach: Industriesttrasse 30b\, 4542 Luterbach\n\n\n\n  \n  \nKurs 1L/25  \n\n\n\nFreitags/samstags\nThema 1\nThema 2\nThema 3\nThema 4\n\n\nTeil 1\n09./10.05.2025\n13./14.06.2025\n15./16.08.2025\n26./27.09.2025\n\n\nTeil 2\n24./25.10.2025\n14./15.11.2025\n05./06.12.2025\n16./17.01.2026\n\n\nTeil 3\n20./21.02.2026\n13./14.03.2026\n24./25.04.2026\n15./16.05.2026\n\n\n\n  \n  \nKurs 2L/25  \n\n\n\nFreitags/samstags\nThema 1\nThema 2\nThema 3\nThema 4\n\n\nTeil 1\n08./09.08.2025\n19./20.09.2025\n24./25.10.2025\n21./22.11.2025\n\n\nTeil 2\n05./06.12.2025\n09./10.01.2026\n06./07.02.2026\n27.02./\n07.03.2026\n\n\nTeil 3\n20./21.03.2026\n17./18.04.2026\n08./09.05.2026\n22./23.05.2026\n\n\n\n  \n  \n\n\n\nKurs abends und samstags\n\n\n\n  \nKurs 3L/25  \n\n\n\nDienstag abends und samstags ganzer Tag\nThema 1\nThema 2\nThema 3\nThema 4\n\n\nTeil 1\n03./10./17.06 \n24.06.2025\n01.07./12.08./19.08 \n26.08.2025\n02./09./16./ \n23.09.2025\n14./21.10/ \n25.10.2025 (samstags)\n\n\nTeil 2\n28.10/04.11/11.11/ \n18.11.2025\n02./09./16.12.2025 \n06.01.2026\n13./20./27.01. \n03.02.2026\n10./17.02.2026\n21.02.2026 (samstags)\n\n\nTeil 3\n24.02./03.03. \n10./17.03.2026\n24.03./31.03. \n04.04.2026 (samstags)\n07./14.04. \n18.04.2026 (samstags)\n25.04.2026 (samstags) \n02.05.2026 (samstags)\n\n\n\n  \n\n\n\nBern/Freiburg St. Antoni Burgbühl\n\n\n\n  \nKurs 1BEFR/25  \n\n\n\nFreitags/samstags\nThema 1\nThema 2\nThema 3\nThema 4\n\n\nTeil 1\n08./09.08.2025\n19./20.09.2025\n24./25.10.2025\n21./22.11.2025\n\n\nTeil 2\n05./06.12.2025\n09./10.01.2026\n06./07.02.2026\n06./07.03.2026\n\n\nTeil 3\n20./21.03.2026\n17./18.04.2026\n08./09.05.2026\n22./23.05.2026\n\n\n\n  \n\n\n\nLuzern \n\n\n\n  \nKurs 1 LU/25  \n\n\n\nFreitags/samstags\nThema 1\nThema 2\nThema 3\nThema 4\n\n\nTeil 1\n07./08.11.2025\n05./06.12.2025\n16./17.01.2026\n30./31.01.2026\n\n\nTeil 2\n06./07.03.2026\n03./04.04.2026\n22./23.05.2026\n05./06.06.2026\n\n\nTeil 3\n26./27.06.2026\n14./15.08.2026\n04./05.09.2026\n09./10.10.2026\n\n\n\n  \nDas Anmelde-Formular und Infos findest du unter INFO.
URL:https://loesungs-impulse.ch/ls/kurse/vorbereitungs-kursfuer-die-berufs-pruefung-vom-bundjob-beratung-start-08-08-2025-bern-freiburg-st-antoni-auch-online/
CATEGORIES:Kurs Kurs Job-Beratung
ATTACH;FMTTYPE=image/jpeg:https://loesungs-impulse.ch/wp-content/uploads/shutterstock_115254469-scaled.jpg
ORGANIZER;CN="PLI":MAILTO:info@loesungs-impulse.ch
END:VEVENT
BEGIN:VEVENT
DTSTART;VALUE=DATE:20251107
DTEND;VALUE=DATE:20261012
DTSTAMP:20260422T023709
CREATED:20240909T124330Z
LAST-MODIFIED:20250809T121440Z
UID:44808-1762502400-1791705599@loesungs-impulse.ch
SUMMARY:Vorbereitungs-Kursfür die Berufs-Prüfung vom BundJob-Beratung\, Start 07.11.2025*\, Luterbach\, auch online
DESCRIPTION:Du kannst dich bei uns auf die Prüfung vorbereiten. \n\nEs gibt zwei Wege zum Kurs Job-Beratung.  \n\nWeg 1: Du arbeitest schon in der Job-Beratung.Du hast schon 2 Jahre Berufs-Erfahrung. \nWeg 2: Du machst den Kurs bei uns.So findest du leichter einen Job in der Job-Beratung.Dann sammelst du die Berufs-Erfahrung für die Prüfung.\n\nDu kannst vor der Prüfung kostenlos bei uns mit-machen.So bist du gut vorbereitet.  \nWir bieten 2 Vorbereitungs-Tage pro Jahr an.\nEinmal im März\, einmal im September.Du meldest dich dafür an. \nNach dem Kurs bekommst du das Diplom für Job-Beratung \n\n\nDu bist bereit für die Berufs-Prüfung vom Bund.\n\nDas Bund-Diplom gibt die Prüfungs-Kommission.\n\n\nDu musst dafür Unter-Lagen abgeben.Wir helfen dir dabei.  \nDer Bund bezahlt die Hälfte der Kosten.Das gilt\, wenn du die Prüfung vom Bund machst.  \nJob-Beratung hilft Menschen bei der Arbeits-Suche. \n\nWas machst du in der Job-Beratung?\nDu hilfst Menschen mit Schwierigkeiten im Beruf.\nGemeinsam findet ihr gute Ziele.Du arbeitest mit Arbeits-Gebenden und Sozial-Diensten zusammen.     \nNach dem Kurs: \n\nDu findest die Stärken und Wünsche der Menschen.\n\nDie hilfst beim Finden von Zielen.Du hilfst\, einen Job zu finden.\n\nDu arbeitest mit Ämtern und Firmen zusammen.Du schaust\, was jede Person braucht.Du führst Gespräche und machst Pläne.\n\n\nJob-Beratung ist ein moderner Beruf.Du kannst deine Arbeit selbst gestalten.Du kannst in Firmen oder anderen Stellen arbeiten.Oder selbst-ständig werden. \nWas möchtest du machen?\nDu kannst viele Dinge machen.Der Kurs hilft dir im Beruf.Du kannst leichter einen Job finden.Du kannst eine eigene Firma gründen.  \nWir helfen dir im neuen Beruf \nWir helfen dir bei deinem Start.Am Anfang sprichst du mit uns. \nWir planen zusammen deine Lern-Ziele.Du lernst\, worauf es ankommt.  \nWas lernst du?\nViele Dinge für gutes Beraten. \nTeil 1: Aufträge planen und klären \n\nMit der Person ein erstes Gespräch führen\nInfos sammeln\nPlan machen\nArbeits-Start begleiten\nBerichte schreiben\nSchauen\, dass die Person alles Wichtige hat\n\nTeil 2: Menschen gut begleiten \n\nWelcher Beruf ist gut für die Person?\nBei der Arbeits-Suche helfen.Bei der Ausbildungs-Suche helfen.\nBei Vorstellungs-Gesprächen helfen.\nBei der Gleich-Behandlung helfen\nBei Konflikten helfen\nWer kann bei Krisen helfen?\nGute Gespräche führen\nBei Gesprächen ver-mitteln\n\nC: Zusammen-Arbeit \n\nMit Führungs-Kräften\, Ämtern und Firmen zusammen-arbeiten\nTreffen leiten\nMit vielen verschiedenen Menschen arbeiten\nNetz-Werke aufbauen\nFür ein gutes Mit-einander am Arbeits-Platz sorgen\nVerändern\n\n\nViel neues Wissen\nDu entscheidest:\nDu kannst Teile vom Kurs machen.Oder den ganzen Kurs.Du kannst auch online lernen.   \nWie geht das? \n\nDu kommst zu uns\nDu nimmst online teil\nDu sprichst mit anderen bei uns\nDu sprichst mit anderen online\nIhr arbeitet in der Gruppe\nDu lernst selbst\nDu bekommst Praxis-Aufgaben\nDu lernst mit anderen\nDu bekommst Beratung alleine\nDu bekommst Beratung in der Gruppe\nLern-Beratung\nDu findest Dinge heraus\nDu lernst viel Neues\n\nUnsere Lehr-Kräfte haben viel Erfahrung. \nOnline lernen\nUnsere Lehr-Kräfte wissen viel übers Online-Lernen.    \nWann?\nKurs-Tage:\nKurs 1B/25: März 2025 bis Mai\, 2026 Balsthal\nKurs 1LB/25: März 2025 bis Mai 2026\, Laufenburg\nKurs 1L/25: Mai 2025 bis Mai 2026\, Luterbach\nKurs 3L/25: Juni 2025 bis April 2026\, abensd und samstags\, online\nKurs 2L/25: August 2025 bis Mai 2026\, Luterbach\nKurs 1BEFR/25: August 2025 bis Mai 2026\, Burgbühl/St. Antoni\nKurs 2B/25: November 2025 bis Oktober 2026\, Balsthal\nKurs 2LB/25: November 2025 bis Oktober 2026\, Luterbach\nKurse 1LU/25: November 2025 bis Oktober 2026\, Luzern  \nWie und wie lange? \nUnterricht – 24 Tage \n\nDu kommst zu uns\nDu nimmst online teil\nDu sprichst mit anderen bei uns\nDu sprichst mit anderen online\n\n  \nDu lernst selbst: bis zu 10 Stunden bei jedem Teil \n\nDu lernst in der Gruppe\nDu lernst selbst\nDu bekommst Praxis-Aufgaben\nDu schaust online Wissen nach\n\n  \nBeratung für dich – 12 Stunden \nIn der Gruppe \n\nLern-Beratung\nDu lernst mit anderen\nGemeinsam geht es leichter\n\n  \nKosten: \nKosten: 7’490 Franken \nLern-Material: 250 Franken\n \nDer Bund hilft: \nDie Hälfte bekommst du vom Bund\, wenn du die Prüfung machst.\nMaximal 3’750 Franken.Lies mehr darüber auf: www.sbfi.admin.ch/bundesbeitraege     \nNeue Regeln: \nDu hast den Kurs Job-Beratung (6 Tage) schon gemacht?  \nDann kannst du Tage an-rechnen lassen.Du bezahlst dann weniger.  \n  \nAnmeldung\nBei: \nPLI® Praxis für Lösungs-Impulse AG \nGeprüfte Schule. \nMehr Info und An-Meldung: \nPraxis für Lösungs-Impulse AG | Industriestrasse 30b | 4542 Luterbach\, Schweiz \nKontakt: info@loesungs-impulse.ch | Telefon: 032 530 33 61 \n\nKurs-Tage\nKurse ab März 2025\, vor Ort oder online \nKurs 2B/25\, freitags und samstag\, Tiergartenweg 1\, 4710 Balsthal \n\nTeil 1: 07. und 08.11.2025\, 05. und 06.12.2025\, 16. und 17.01.2026\, 30. und 31.01.2026 \nTeil 2: 06. und 07.03.2026\, 03. und 04.04.2026\, 22. und 23.05.2026\, 05. und 06.06.2026  \nTeil 3: 26. und 27.06.2026\, 14. und 15.08.2026\, 04. und 05.09.2026\, 16. und 17.10.2026 \n\nKurs 1L/25\, freitags und samstags\, Industriestrasse 30b\, 4542 Luterbach \n\nTeil 1: 09. und 10.05.2025\, 13. und 14.06.2025\, 15. und 16.08.2025\, 26. und 27.09.2025\nTeil 2: 24. und 25.10.2025\, 14. und 15.11.2025\, 05. und 06.12.2025\, 16. und 17.01.2026 \nTeil 3: 20. und 21.02.2026\, 13. und 14.03.2026\, 24. und 25.04.2026\, 15. und 16.05.2026\n\nKurs 2L/25\, freitags und samstags\, Industriestrasse 30b\, 4542 Luterbach \n\nTeil 1: 08. und 09.08.2025\, 19. und 20.09.2025\, 24. und 25.10.2025\, 21. und 22.11.2025\nTeil 2: 05. und 06.12.2025\, 09. und 10.01.2026\, 06. und 07.02 2026\, 27.02.2026\, 07.03.2026  \nTeil 3: 20. und 21.03.2026\, 17. und 18.04.2026\, 08. und 09.05.2026\, 22. und 23.05.2026 \n\nKurs 3L/25\, Dienstag abends und ganze Samstage\, Industriestrasse 30b\, 4542 Luterbach \n\nTeil 1: 03.06.2025\, 10.06.2025\, 17.06.2025\, 24.06.2025\, 01.07.2025\, 12.08.2025\, 19.08.2025\, 26.08.2025\, 02.09.2025\, 09.09.2025\, 16.09.2025\, 23.09.2025\, 14.10.2025\, 21.10.2025\, 25.10.2025 (SA)\nTeil 2: 28.10.2025\, 04.11.2025\, 11.11.2025\, 18.11.2025\, 02.12.2025\, 09.12.2025\, 16.12.2025\, 06.01.2026\, 13.01.2026\, 20.01.2026\, 27.01.2026\, 03.02.2026\, 10.02.2026\, 17.02.2026\, 21.02.2026 (SA)\nTeil 3: 24.02.2026\, 03.03.2026\, 10.03.2026\, 17.03.2026\, 24.03.2026\, 31.03.2026\, 04.04.2026 (SA)\, 07.04.2026\, 14.04.2026\, 18.04.2026 (SA)\, 25.04.2026 (SA)\, 02.05.2026 (SA)\n\nKurs 1BEFR/25\, freitags und samstags\, Bern / Freiburg St. Antoni Burgbühl \n\nTeil 1: 08. und 09.08.2025\, 19. und 20.09.2025\, 24. und 25.10.2025\, 21. und 22.11.2025\nTeil 2: 05. und 06.12.2025\, 09. und 10.01.2026\, 06. und 07.02.2026\, 06. und 07.03.2026   \nTeil 3: 20. und 21.03.2026\, 17. und 18.04.2026\, 08. und 09.05.2026\, 22. und 23.05.2026 \n\nKurs 1 LU/25\, freitags und samstags\, Luzern \n\nTeil 1: 07. und 08.11.2025\, 05. und 06.12.2025\, 16. und 17.1.2026\, 30. und 31.01.2026 \nTeil 2: 06. und 07.03.2026\, 03. und 04.04.2026\, 22. und 23.05.2026\, 05. und 06.06.2026  \nTeil 3: 26. und 27.06.2026\, 14. und 15.08.2026\, 04. und 05.09.2026\, 09. und 10.10.2026  \n\n\nDas Anmelde-Formular und Infos findest du unter INFO.
URL:https://loesungs-impulse.ch/ls/kurse/vorbereitungslehrgang-fuer-die-eidg-berufspruefung-job-coaching-arbeitsintegration-pli-mit-eidg-fa-start-07-11-2025-luterbach-auch-via-zoom/
LOCATION:Praxis für Lösungs-Impulse AG\, Industriestrasse 30b\, 4542 Luterbach
CATEGORIES:Kurs Kurs Job-Beratung
ATTACH;FMTTYPE=image/jpeg:https://loesungs-impulse.ch/wp-content/uploads/shutterstock_115254469-scaled.jpg
ORGANIZER;CN="PLI":MAILTO:info@loesungs-impulse.ch
END:VEVENT
BEGIN:VEVENT
DTSTART;TZID=Europe/Zurich:20260501T090000
DTEND;TZID=Europe/Zurich:20260522T160000
DTSTAMP:20260422T023709
CREATED:20250602T140805Z
LAST-MODIFIED:20260414T064924Z
UID:44671-1777626000-1779465600@loesungs-impulse.ch
SUMMARY:Kurs Beratung Autismus\, 4 oder 7 Tage\, Balsthal\, 01.05.2026\, auch online
DESCRIPTION:Kurs: Autismus-Beratung\nDu bekommst ein Diplom. \n Beratung Autismus \nKurs vor Ort oder via Zoom:\nPLI\nIndustriestrasse 30b\n4542 Luterbach \nKurs Beratung Autismus (4 oder 7 Tage)\nMenschen mit Autismus haben ein besonderes Gehirn.Menschen mit Autismus sind nicht krank.Sie sehen\, hören und fühlen anders. \n\nSie mögen oft keine lauten Geräusche.Viele mögen es ruhig.Sie reden manchmal wenig.Oder sie reden viel\, aber nur über ein Thema.Viele mögen feste Regeln.Sie wollen\, dass alles gleich bleibt.\nMenschen mit Autismus können oft etwas besonders gut.\nBei manchen Dingen brauchen sie Hilfe. Es ist wichtig\, dass andere sie verstehen. Dann können sie gut leben.\nDu lernst:Was Autismus ist.Wie verschieden Autismus sein kann.Welche Krankheiten man bei Autismus haben kann.Wie du im All-Tag gut mit Autismus umgehst.Welche Stärken Menschen mit Autismus haben.Was für Menschen mit Autismus schwierig ist.Welche Hilfe gut funktioniert.\nAutismus in der SchuleAutismus bei der ArbeitAutismus in der BeziehungWas schwierig und toll ist an Autismus.\nGute Gespräche führen.Mit Streit umgehen.\n\n  \nZiel-Gruppe und Lern-Ziele\nFür wen ist der Kurs? \nDer Kurs ist gut für dich\, wenn du: \n4 Tage\, Teil 1 (Grund-Lagen) \n\nSchon einen Beratungs-Kurs gemacht hast.\nMit Menschen mit Autismus arbeiten willst.\nSelbst Autismus hast.Jemand aus deiner Familie Autismus hat.\nPraktische Tipps für Gespräche\, Stress-Abbau und Motivation brauchst.\nMehr über Gehirn\, Gesundheit oder Ernährung bei Autismus wissen willst.\n\n7 Tage\, Teil 2 \n\nDu möchtest noch mehr über Fall-Arbeit wissen?Und über Autismus?Dann ist der Teil 2 perfekt für dich.  Du arbeitest mit vielen echten Fall-Bei-Spielen.\n\n  \nLern-Ziele: \nDas kannst du nach dem Kurs: \n\nDu weisst\, was Autismus ist.\nDu weisst\, welche Krankheiten man mit Autismus haben kann.\nDu verstehst\, was für Menschen mit ADHS schlimm ist.\nDu weisst\, worauf du im All-Tag achten musst.\nDu kannst Kinder und Erwachsene gut begleiten.\nDu weisst\, wie du ein Beratungs-Gespräch führst.\nDu weisst\, wer Beratung zahlen kann (vielleicht die IV?)\nDu kannst beraten.\nDu weisst\, was du in der Beratung machst und was nicht.\nDu kannst gut zuhören.\nDu kannst helfen beim Lösungen finden.\nDu kannst gute Fragen stellen.\nDu kennst viele Werk-Zeuge für deine Beratung.\n\nDu kannst zu uns kommen. Oder du machst den Kurs mit Zoom. Alle unsere Lehr-Kräfte sind Fach-Kräfte für Online-Kuse.  \nWarum den Kurs machen? \nDer Kurs ist sehr praktisch.Das heisst: Die Kurs-Leiter und Kurs-Leiterinnen arbeiten selbst mit Menschen mit Autismus.Sie bringen viel Erfahrung mit.Du lernst\, was du im All-Tag wirklich brauchen kannst.    \nDu entscheidest:  \nKurs Beratung Grund-Lagen: 4 Tage\nMehr über Medizin und Fall-Arbeit mit echten Fall-Bei-Spielen\nBeratung planen: 7 Tage \nKurs machen: \n\nBei uns oder online.\nSelbst online lernen. Wann und wo du willst. Unser Team hilft dir.\n\n  \nKURS PLANEN  \nDu kannst:gleich alle 7 Tage machenoder zuerst 4 Tage machen und später 3 Tage dazu buchen. \nKein passender Termin?Dann finden wir gerne einen für dich. \nDas Anmelde-Formular und Infos findest du im Info-Heft.
URL:https://loesungs-impulse.ch/ls/kurse/zertifikatslehrgang-autismus-coaching-pli-4-oder-7-tage-balsthal-01-05-2026-auch-via-zoom/
LOCATION:Tiergartenweg 1\, 4710 Balsthal\, Tiergartenweg 1\, Balsthal\, Solothurn\, 4710\, Schweiz
CATEGORIES:Beratung Autismus,Kurse,Seminare
ATTACH;FMTTYPE=image/jpeg:https://loesungs-impulse.ch/wp-content/uploads/A6EA979B-24AF-45B8-AED9-15AE9D06AFDB.jpeg
ORGANIZER;CN="PLI":MAILTO:info@loesungs-impulse.ch
END:VEVENT
BEGIN:VEVENT
DTSTART;TZID=Europe/Zurich:20260505T090000
DTEND;TZID=Europe/Zurich:20270210T163000
DTSTAMP:20260422T023709
CREATED:20250815T064423Z
LAST-MODIFIED:20260303T153853Z
UID:46321-1777971600-1802277000@loesungs-impulse.ch
SUMMARY:Kurs Firmen beraten\, Luterbach\, 05.05.2026\, auch online
DESCRIPTION:Kurs Firmen beraten\nDer Kurs dauert 1 Jahr. Er ist mit vielen praktischen Bei-Spielen. \nKurs mit viel Praxis. Nach dem Grund-Kurs kannst du den Kurs Firmen beraten machen. Du bekommst ein Diplom.  \n\nDer Beruf ist sehr viel-seitig.\nEs gibt viele Jobs.\nBeratung in Firmen ist gefragt.\nWas lerne ich?\nDu lernst:Wie du Menschen bei der Arbeit hilfst.Wie du Führungs-Kräfte und Teams unterstützt.Wie du Menschen bei Problemen im Job berätst.Wie du schwierige Situationen gut meisterst.Wie du als Führungs-Kraft besser wirst.Wie du dich selbst besser verstehst.\nWie du Probleme im Job erkennst und löstWie du gute Gespräche führst\n\nFür wen ist der Kurs?\nFür Menschen\, die anderen im Job helfen wollen.Zum Bei-Spiel:Führungs-KräfteMenschen\, die Führungs-Kräfte werden wollenMenschen\, die sich selbst verbessern wollen\nBeratung in Firmen hilft allen.\nDie Menschen sind weniger krank. Sie bleiben länger in der Firma.\n\nWer kann den Kurs machen?\nDer Kurs dauert 21 Tage.Du kannst den Kurs in 3 Stufen machen: \nStufe 1: Grund-Kurs Beratung für alle (10 Tage) \n\nDer Kurs ist gut für dich\, wenn du gerne:mit Menschen arbeitestanderen hilfst\n\nTeams führst oder führen willstdich selbst weiter-entwickeln willst\nZum Beispiel:wenn du eine Führungs-Person bist oder werden willstwenn du im Büro oder in der Pflege arbeitestwenn du in der Schule oder im Sozial-Bereich arbeitestwenn du Menschen berätst oder begleitestwenn du beraten möchtest \n\nStufe 2 und 3: Firmen beraten (11 Tage)   \nSind perfekt für dich\, wenn du:schon viel Erfahrung hast mit Führen\, Begleiten oder Beratennoch mehr lernen willstmehr über Führung wissen willst \nDu lernst:wie du Teams hilfstwie du Führungs-Kräfte berätstwie du mit schwierigen Dingen umgehstwie du gute Schulungen gibstwie du bei Veränderungen in Firmen hilfstwie du dich weiter-entwickelst \nDer Fach-Ausweis zeigt: \n\nDu kannst jetzt:Teams und Menschen beratenBei Krisen helfenBeim Lernen helfen\nDu kannst danach beraten.\nDu hast dich weiter-entwickelt.Du weisst jetzt viel als Führungs-Kraft.\n\nWie arbeitest du?\nDu begleitest Menschen.Du berätst mit deinem Fach-Wissen.Du schulst Menschen.    \nDu nutzt dein Wissen beim Leiten von Firmen oder Teams. \nDie Arbeits-Welt wird immer komplizierter.Führungs-Kräfte müssen mehr leisten.Daher ist Beratung immer wichtiger.   \nEs gibt viele Jobs für Menschen\, die beraten.Du hast jetzt ein Diplom. \nDas Diplom gilt auf der ganzen Welt.Du kannst danach beraten.Du findest leicht Arbeit. \nDu berätst zum Bei-Spiel:\nMenschen und Führungs-Kräfte\, wenn sie: \n\nsich weiter-entwickeln möchtenihrer Firma helfen möchtenbesser leiten oder arbeiten möchten\nSpass an der Arbeit haben möchten\n\nDu berätst Führungs-Kräfte\, Mitarbeitende und Teams. \nZum Bei-Spiel bei:Schwierigen GesprächenKrisenVeränderungWenn alles zu viel istBurn-OutAngst\, die Arbeit zu verlierenJob-SucheLange-Weile \nDu wirst auch selbst eine gute Führungs-Kraft \nAuf-Bau\nThemen \nDer Kurs dauert 21 Tage. Es gibt 3 Teile. \nTeil1 (Grund-Kurs Beratung für alle) (10 Tage) \n\nWer bin ich? 2 Tage\nWie kann ich mich ver-ändern? 2 Tage\nWie kann ich gut handeln? 2 Tage\nStark werden\, entspannt werden und selbst handeln\, 2 Tage\nBurn-Out ver-hindernBei Burn-Out helfen\nSchwierige Gespräche\nGemeinsam Lösungen finden\nWie bin ich in der Beratung?\nLösungen in der Beratung?Stärken finden.\nUm-Feld mit-denken\nGut beraten\nGute Gespräche führen\nWeiter-entwickeln\, mehr praktisches Wissen\nMenschen verstehen\nStark werden\, entspannt werden und selbst handeln\nPraktische Prüfung und Abschluss mit Diplom\, 2 Tage\n\n  \nStufen 2 und 3: \n\nMehr Wissen. Wissen aus Stufe 1 an-wenden.\nNoch besser beraten.\nNoch besser leiten.\nPersonen und Gruppen beraten.\nTeams\, Menschen und Führungs-Kräfte unter-richten.\n\n  \nThemen\, Teil 2\, 3 Tage\n\nFirmen beraten\nWas mache ich beim Beraten von Firmen? Wie schütze ich Daten?\nWie berate ich Führungs-Kräfte?Wer leitet wie?\nBei Veränderung helfen.\nWie möchte ich begleiten?\nWelche Probleme haben Führungs-Kräfte oft?\n\nNach Stufe 2: 8 Abende. Je 3 Stunden. Online. \n\nWie geht es dir nun damit?\nWie entwickeln sich Führungs-Kräfte?\nWelcher Weg passt wo?\nWie kann ich etwas vor-tragen?\nStark werden: du selbst\, Mit-Arbeitende\, Firma\n\nStufe 3 – 4 Tage \n\nWissen aus der Psychologie\nStress als Führungs-Kraft\nStarke Mit-Arbeitende und Firma\nGute Gespräche\nModerne Firma\nWerk-Zeuge für die Führung\nTeams aus vielen Ländern\nFall-Bei-Spiele.\n\n\nWie lange muss ich lernen?\n172 Stunden Unterricht50 Stunden selbst lernen50 Stunden gemeinsam lernen50 Stunden für Prüfungs-Arbeit \nDas gilt für alle 3 Stufen. \nMehr über die Stufe eins:Lies das Info-Heft Grund-Kurs Beratung für alle. \nDu lernst: \n\nWas ist wichtig:Vor und nach der Beratung\nWer bin ich in der Beratung?\nMit anderen Stellen zusammen-arbeiten\nDaten schützen\, Infos weiter-geben\, etwas vereinbaren\nWie gehe ich mit Stress um?\nBei Konflikten helfen\nWas mache ich bei Unehrlichkeit und Krisen?\nWas mache ich bei Mobbing?\nFall-Bei-Spiele.\nWerk-Zeuge zum Führen gut nutzen\n\nDu bekommst ein Diplom.\nDas Diplom ist von ECA geprüft.Das ist ein Beratungs-Verband für ganz Europa. \nMach bei PLI den Kurs Firmen beraten.Er dauert 21 Tage.Du weisst schon viel über Beratung?Dann ist der Kurs vielleicht kürzer.Schreib uns einfach.Wir prüfen das gerne.   \nWenn du noch nichts weisst: \n\nDu weisst noch nichts über Beratung?Du machst zuerst den Grund-Kurs Beratung für alleDu lernst Wichtiges über BeratungDauer: 10 Tage\, 5 Module\n\nMehr über den Kurs und die Kurs-Tage siehst du auf Seite 10 im Info-Heft.\nDann machst du die Stufen 2 und 3.\nDanach machst du eine Prüfung. Die Prüfungen sind zwei Mal im Jahr.Du entscheidest nach Stufe 3\, wann du dich zur Prüfung an-meldest.  \n\nWichtig:\nPrüfungen \nKurs Firmen beraten \nDu machst zuerst den ganzen Kurs (21 Tage).Nach der Stufe 3 machst du eine schriftliche Prüfung.Und du machst eine praktische Prüfung. \nDie schriftliche Arbeit: \n\nDu musst 10 Fragen zu den Stufen 2 und 3 beantworten.\nDann berätst du eine Person. Die Kurs-Leitung sagt\, zu welchem Thema.Du beschreibst\, wie du das machst.\nDie praktische Prüfung dauert 1 Stunde.Du machst eine Beratung mit dem Wissen aus Stufe 3.Die Kurs-Leitung sagt\, zu welchem Thema.\n\nDu schaffst die schriftliche und mündliche Prüfung:Dann bekommst du ein Diplom von ECA.Das ist ein Verband für Beratung. \nFür die Prüfungen gelten Regeln von PLI. \nSchriftliche Arbeit \nSie muss 20 Tage vor der Prüfung fertig sein.Die Schriftart muss Arial sein.Die Schriftgrösse muss 11 sein.Du schreibst zu jeder Frage eine halbe bis eine Seite.Du schreibst einen Text\, keine Aufzählungen. \nDann schickst du die Arbeit 1 Mal per E-Mail.Du druckst sie 1 Mal aus.Du lässt sie binden.Dann schickst du sie per Post an PLI.  \nNoch wichtig: \nDu übst mit anderen. \nDas Anmelde-Formular und Infos findest du unter INFO.
URL:https://loesungs-impulse.ch/ls/kurse/dipl-pli-business-coach-eca-luterbach-05-05-2026-auch-via-zoom/
LOCATION:Praxis für Lösungs-Impulse AG\, Industriestrasse 30b\, 4542 Luterbach
CATEGORIES:Kurs Firmen beraten
ATTACH;FMTTYPE=image/png:https://loesungs-impulse.ch/wp-content/uploads/businesscoach5.png
ORGANIZER;CN="PLI":MAILTO:info@loesungs-impulse.ch
END:VEVENT
END:VCALENDAR