BEGIN:VCALENDAR
VERSION:2.0
PRODID:-//Praxis für Lösungs-Impulse AG - ECPv6.15.20//NONSGML v1.0//EN
CALSCALE:GREGORIAN
METHOD:PUBLISH
X-WR-CALNAME:Praxis für Lösungs-Impulse AG
X-ORIGINAL-URL:https://loesungs-impulse.ch/ls/
X-WR-CALDESC:Events for Praxis für Lösungs-Impulse AG
REFRESH-INTERVAL;VALUE=DURATION:PT1H
X-Robots-Tag:noindex
X-PUBLISHED-TTL:PT1H
BEGIN:VTIMEZONE
TZID:Europe/Zurich
BEGIN:DAYLIGHT
TZOFFSETFROM:+0100
TZOFFSETTO:+0200
TZNAME:CEST
DTSTART:20240331T010000
END:DAYLIGHT
BEGIN:STANDARD
TZOFFSETFROM:+0200
TZOFFSETTO:+0100
TZNAME:CET
DTSTART:20241027T010000
END:STANDARD
BEGIN:DAYLIGHT
TZOFFSETFROM:+0100
TZOFFSETTO:+0200
TZNAME:CEST
DTSTART:20250330T010000
END:DAYLIGHT
BEGIN:STANDARD
TZOFFSETFROM:+0200
TZOFFSETTO:+0100
TZNAME:CET
DTSTART:20251026T010000
END:STANDARD
BEGIN:DAYLIGHT
TZOFFSETFROM:+0100
TZOFFSETTO:+0200
TZNAME:CEST
DTSTART:20260329T010000
END:DAYLIGHT
BEGIN:STANDARD
TZOFFSETFROM:+0200
TZOFFSETTO:+0100
TZNAME:CET
DTSTART:20261025T010000
END:STANDARD
END:VTIMEZONE
BEGIN:VEVENT
DTSTART;TZID=Europe/Zurich:20250830T090000
DTEND;TZID=Europe/Zurich:20251013T160000
DTSTAMP:20260421T213532
CREATED:20240814T102428Z
LAST-MODIFIED:20250809T122229Z
UID:44924-1756544400-1760371200@loesungs-impulse.ch
SUMMARY:Kurs Autismus-Beratung\, 4 oder 7 Tage\, Balsthal\, 04.09.2025\, auch online
DESCRIPTION:Kurs: Autismus-Beratung\nEs gibt 2 Teile. Teil 2 kommt nach Teil 1. \nTeil 1 \n07.06.2025\, 14.06.2025\, 26.07.2025\, 23.08.2025 (Samstags-Kurs)\n21.07.2025\, 22.07.2025\, 26.07.2025\, 28.07.2025\n04.09.2025\, 05.09.2025\, 11.09.2025\, 19.09.2025\n03.11.2025\, 04.11.2025\, 17.11.2025\, 20.11.2025\n10.01.2026\, 17.01.2026\, 24.01.2026\, 31.01.2026 (Samstags-Kurs)\n11.02.2026\, 18.02.2026\, 26.02.2026\, 06.03.2026\n01.05.2026\, 04.05.2026\, 11.05.2026\, 22.05.2026\n06.06.2026\, 13.06.2026\, 25.07.2026\, 22.08.2026 (Samstags-Kurs)\n20.07.2026\, 21.07.2026\, 25.07.2026\, 27.07.2025\n03.09.2026\, 04.09.2026\, 10.09.2026\, 18.09.2026\n02.11.2026\, 03.11.2026\, 16.11.2026\, 19.11.2026 \nTeil 2 \n12.08.2025\, 13.08.2025\, 29.08.2025\n30.08.2025\, 06.09.2025\, 13.09.2025\n29.09.2025\, 14.10.2025\, 10.11.2025\n02.12.2025\, 04.12.2025\, 08.12.2025\n21.02.2026\, 21.03.2026\, 28.03.2026 (Samstags-Kurs)\n27.05.2026\, 29.05.2026\, 08.06.2026\n29.08.2026\, 05.09.2026\, 12.09.2026 (Samstags-Kurs)\n28.09.2026\, 13.10.2026\, 09.11.2026\n01.12.2026\, 03.12.2026\, 07.12.2026 \nEs gibt viele Termine für Teil 1 und Teil 2.Wenn keiner passt: Du kannst andere Termine vorschlagen. \nDu kannst nach dem Kurs sagen. Ich kann Beratung Autismus. \nKurs vor Ort oder via Zoom:\nPLI\nIndustriestrasse 30b\n4542 Luterbach \nKurs Beratung Autismus (4 oder 7 Tage)\nMenschen mit Autismus haben ein besonderes Gehirn.Menschen mit Autismus sind nicht krank.Sie sehen\, hören und fühlen anders. \n\nSie mögen oft keine lauten Geräusche.Viele mögen es ruhig.Sie reden manchmal wenig.Oder sie reden viel\, aber nur über ein Thema.Viele mögen feste Regeln.Sie wollen\, dass alles gleich bleibt.\nMenschen mit Autismus können oft etwas besonders gut.\nBei manchen Dingen brauchen sie Hilfe. Es ist wichtig\, dass andere sie verstehen. Dann können sie gut leben.\nDu lernst:Was Autismus ist.Wie verschieden Autismus sein kann.Welche Krankheiten man bei Autismus haben kann.Wie du im All-Tag gut mit Autismus umgehst.Welche Stärken Menschen mit Autismus haben.Was für Menschen mit Autismus schwierig ist.Welche Hilfe gut funktioniert.\nAutismus in der SchuleAutismus bei der ArbeitAutismus in der BeziehungWas schwierig und toll ist an Autismus.\nGute Gespräche führen.Mit Streit umgehen.\n\n  \nZiel-Gruppe und Lern-Ziele\nFür wen ist der Kurs? \nDer Kurs ist gut für dich\, wenn du: \n4 Tage\, Teil 1 (Grund-Lagen) \n\nSchon einen Beratungs-Kurs gemacht hast.\nMit Menschen mit Autismus arbeiten willst.\nSelbst Autismus hast.Jemand aus deiner Familie Autismus hat.\nPraktische Tipps für Gespräche\, Stress-Abbau und Motivation brauchst.\nMehr über Gehirn\, Gesundheit oder Ernährung bei Autismus wissen willst.\n\n7 Tage\, Teil 2 \n\nDu möchtest noch mehr über Fall-Arbeit wissen?Und über Autismus?Dann ist der Teil 2 perfekt für dich.  Du arbeitest mit vielen echten Fall-Bei-Spielen.\n\n  \nLern-Ziele: \nDas kannst du nach dem Kurs: \n\nDu weisst\, was Autismus ist.\nDu weisst\, welche Krankheiten man mit Autismus haben kann.\nDu verstehst\, was für Menschen mit ADHS schlimm ist.\nDu weisst\, worauf du im All-Tag achten musst.\nDu kannst Kinder und Erwachsene gut begleiten.\nDu weisst\, wie du ein Beratungs-Gespräch führst.\nDu weisst\, wer Beratung zahlen kann (vielleicht die IV?)\nDu kannst beraten.\nDu weisst\, was du in der Beratung machst und was nicht.\nDu kannst gut zuhören.\nDu kannst helfen beim Lösungen finden.\nDu kannst gute Fragen stellen.\nDu kennst viele Werk-Zeuge für deine Beratung.\n\nDu kannst zu uns kommen. Oder du machst den Kurs mit Zoom. Alle unsere Lehr-Kräfte sind Fach-Kräfte für Online-Kuse.  \nWarum den Kurs machen? \nDer Kurs ist sehr praktisch.Das heisst: Die Kurs-Leiter und Kurs-Leiterinnen arbeiten selbst mit Menschen mit Autismus.Sie bringen viel Erfahrung mit.Du lernst\, was du im All-Tag wirklich brauchen kannst.    \nDu entscheidest:  \nKurs Beratung Grund-Lagen: 4 Tage\nMehr über Medizin und Fall-Arbeit mit echten Fall-Bei-Spielen\nBeratung planen: 7 Tage \nKosten: \n4 Tage: 1’760 Franken\n3 Tage: 1’270.00 Franken\n7 Tage: 2’950.00 Franken \n  \nKurs machen: \n\nBei uns oder online.\nSelbst online lernen. Wann und wo du willst. Unser Team hilft dir.\n\n  \nKURS PLANEN  \nDu kannst:gleich alle 7 Tage machenoder zuerst 4 Tage machen und später 3 Tage dazu buchen. \nKein passender Termin?Dann finden wir gerne einen für dich. \nDas Anmelde-Formular und Infos findest du im Info-Heft.
URL:https://loesungs-impulse.ch/ls/kurse/kurs-autismus-beratung-4-oder-7-tage-balsthal-04-09-2025-auch-online/
LOCATION:Tiergartenweg 1\, 4710 Balsthal\, Tiergartenweg 1\, Balsthal\, Solothurn\, 4710\, Schweiz
CATEGORIES:Beratung Autismus
ATTACH;FMTTYPE=image/jpeg:https://loesungs-impulse.ch/wp-content/uploads/A6EA979B-24AF-45B8-AED9-15AE9D06AFDB.jpeg
ORGANIZER;CN="PLI":MAILTO:info@loesungs-impulse.ch
END:VEVENT
END:VCALENDAR