BEGIN:VCALENDAR
VERSION:2.0
PRODID:-//Praxis für Lösungs-Impulse AG - ECPv6.15.20//NONSGML v1.0//EN
CALSCALE:GREGORIAN
METHOD:PUBLISH
X-WR-CALNAME:Praxis für Lösungs-Impulse AG
X-ORIGINAL-URL:https://loesungs-impulse.ch/ls/
X-WR-CALDESC:Events for Praxis für Lösungs-Impulse AG
REFRESH-INTERVAL;VALUE=DURATION:PT1H
X-Robots-Tag:noindex
X-PUBLISHED-TTL:PT1H
BEGIN:VTIMEZONE
TZID:Europe/Zurich
BEGIN:DAYLIGHT
TZOFFSETFROM:+0100
TZOFFSETTO:+0200
TZNAME:CEST
DTSTART:20250330T010000
END:DAYLIGHT
BEGIN:STANDARD
TZOFFSETFROM:+0200
TZOFFSETTO:+0100
TZNAME:CET
DTSTART:20251026T010000
END:STANDARD
BEGIN:DAYLIGHT
TZOFFSETFROM:+0100
TZOFFSETTO:+0200
TZNAME:CEST
DTSTART:20260329T010000
END:DAYLIGHT
BEGIN:STANDARD
TZOFFSETFROM:+0200
TZOFFSETTO:+0100
TZNAME:CET
DTSTART:20261025T010000
END:STANDARD
BEGIN:DAYLIGHT
TZOFFSETFROM:+0100
TZOFFSETTO:+0200
TZNAME:CEST
DTSTART:20270328T010000
END:DAYLIGHT
BEGIN:STANDARD
TZOFFSETFROM:+0200
TZOFFSETTO:+0100
TZNAME:CET
DTSTART:20271031T010000
END:STANDARD
END:VTIMEZONE
BEGIN:VEVENT
DTSTART;TZID=Europe/Zurich:20261021T170000
DTEND;TZID=Europe/Zurich:20261021T200000
DTSTAMP:20260422T062306
CREATED:20250815T102010Z
LAST-MODIFIED:20260414T064924Z
UID:46477-1792602000-1792612800@loesungs-impulse.ch
SUMMARY:Kurs: Leichte Beziehung\, Start 21.10.2026\, auch online
DESCRIPTION:Kurs: Leichte Beziehung – 1 Tag\nAuf-Bau-Kurs für den Kurs Paare beraten \nWorum geht’s?Viele Beziehungen sind heute kompliziert. Gefühle\, Stress und Erwartungen machen es nicht leicht.Dieser Kurs hilft dir\, den All-Tag in deiner Beziehung besser zu verstehen – und zu gestalten.Er ist auch für Menschen in der Beratung\, die mit Paaren arbeiten.    \nWas lernst du?• Warum Beziehungen heute anders sind als früher• Wie Männer und Frauen oft unterschiedlich denken und fühlen• Was Menschen in Beziehungen wirklich brauchen• Wie ihr besser miteinander reden könnt• Wie ihr mit Stress und Streit besser umgeht• Warum wir oft geben\, was wir selbst brauchen – nicht was die andere Person braucht \nFür wen ist der Kurs?Für Einzel-Personen oder Paare\, die ihre Beziehung verbessern wollen.Für Menschen\, die Menschen in Beziehungen beraten.      \nWie und wann: \nDu kannst auch selbst online lernen\nLies mehr im Info-Heft
URL:https://loesungs-impulse.ch/ls/kurse/zertifikatslehrgang-schluss-mit-dem-beziehungskrampf-pli-start-21-10-2026-auch-via-zoom/
LOCATION:Praxis für Lösungs-Impulse AG\, Industriestrasse 30b\, 4542 Luterbach
CATEGORIES:Kurse
ATTACH;FMTTYPE=image/jpeg:https://loesungs-impulse.ch/wp-content/uploads/2020/03/partner-beziehungscoaching.jpg
ORGANIZER;CN="PLI":MAILTO:info@loesungs-impulse.ch
END:VEVENT
BEGIN:VEVENT
DTSTART;TZID=Europe/Zurich:20261022T170000
DTEND;TZID=Europe/Zurich:20261022T200000
DTSTAMP:20260422T062306
CREATED:20250815T102334Z
LAST-MODIFIED:20260403T165257Z
UID:46486-1792688400-1792699200@loesungs-impulse.ch
SUMMARY:Kurs: Paare beraten\, Start 22.10.2026\, auch online
DESCRIPTION:Kurs: Paare beraten – 1 Tag\nVor diesem Kurs:Du machst den Kurs Leichte Beziehungen \nWorum geht es?\nIn diesem Kurs lernst du\, wie du Paare gut begleiten kannst.Oft haben beide Personen unterschiedliche Wünsche\, Ängste und Erwartungen.In der Beratung bist du neutral. Das heisst\, du hältst gleich stark zu beiden Personen.Du hilfst\, dass beide einander besser verstehen.Du übersetzt die Sprache der Beziehung.Du nutzt dein Wissen über verschiedene Menschen. \nWas lernst du?• Wie du Gespräche mit Paaren führst• Wie du neutral bleibst – auch wenn es schwierig wird• Wie du mit Gefühlen und Konflikten umgehst• Wie du hilfst\, dass sie sich besser verstehen• Wie du die Unterschiede zwischen Menschen erklärst \nFür wen ist der Kurs?Für alle\, die schon den Kurs «Leichte Beziehungen» gemacht haben.Für Menschen\, die Paare beraten möchten.      \nWie und wann: \nDu kannst auch selbst online lernen\nLies mehr im Info-Heft
URL:https://loesungs-impulse.ch/ls/kurse/zertifikatslehrgang-zum-partner-und-beziehungscoach-pli-start-22-10-2026-auch-via-zoom/
LOCATION:Praxis für Lösungs-Impulse AG\, Industriestrasse 30b\, 4542 Luterbach
CATEGORIES:Kurse
ATTACH;FMTTYPE=image/jpeg:https://loesungs-impulse.ch/wp-content/uploads/2020/03/partner-beziehungscoaching.jpg
ORGANIZER;CN="PLI":MAILTO:info@loesungs-impulse.ch
END:VEVENT
END:VCALENDAR