BEGIN:VCALENDAR
VERSION:2.0
PRODID:-//Praxis für Lösungs-Impulse AG - ECPv6.15.20//NONSGML v1.0//EN
CALSCALE:GREGORIAN
METHOD:PUBLISH
X-ORIGINAL-URL:https://loesungs-impulse.ch/ls/
X-WR-CALDESC:Events for Praxis für Lösungs-Impulse AG
REFRESH-INTERVAL;VALUE=DURATION:PT1H
X-Robots-Tag:noindex
X-PUBLISHED-TTL:PT1H
BEGIN:VTIMEZONE
TZID:Europe/Zurich
BEGIN:DAYLIGHT
TZOFFSETFROM:+0100
TZOFFSETTO:+0200
TZNAME:CEST
DTSTART:20250330T010000
END:DAYLIGHT
BEGIN:STANDARD
TZOFFSETFROM:+0200
TZOFFSETTO:+0100
TZNAME:CET
DTSTART:20251026T010000
END:STANDARD
BEGIN:DAYLIGHT
TZOFFSETFROM:+0100
TZOFFSETTO:+0200
TZNAME:CEST
DTSTART:20260329T010000
END:DAYLIGHT
BEGIN:STANDARD
TZOFFSETFROM:+0200
TZOFFSETTO:+0100
TZNAME:CET
DTSTART:20261025T010000
END:STANDARD
BEGIN:DAYLIGHT
TZOFFSETFROM:+0100
TZOFFSETTO:+0200
TZNAME:CEST
DTSTART:20270328T010000
END:DAYLIGHT
BEGIN:STANDARD
TZOFFSETFROM:+0200
TZOFFSETTO:+0100
TZNAME:CET
DTSTART:20271031T010000
END:STANDARD
BEGIN:DAYLIGHT
TZOFFSETFROM:+0100
TZOFFSETTO:+0200
TZNAME:CEST
DTSTART:20280326T010000
END:DAYLIGHT
BEGIN:STANDARD
TZOFFSETFROM:+0200
TZOFFSETTO:+0100
TZNAME:CET
DTSTART:20281029T010000
END:STANDARD
END:VTIMEZONE
BEGIN:VEVENT
DTSTART;VALUE=DATE:20260815
DTEND;VALUE=DATE:20270109
DTSTAMP:20260422T033913
CREATED:20250813T143449Z
LAST-MODIFIED:20260303T154429Z
UID:46200-1786780800-1799395199@loesungs-impulse.ch
SUMMARY:Kurs: CAS Neuro-divergente Familien beraten\, Start 15.08.2026\, online oder selbst lernen
DESCRIPTION:Auf-Bau\nDer Kurs dauert 1 Jahr.Du lernst\, wie du Kinder\, Jugendliche und Familien mit besonderen Bedürfnissen beraten kannst. Kurs: Beratung für neuro-divergente Familien \nDer Kurs hat 3 Teile:Teil 1: Grund-Kurs Beratung für alle (10 Tage) \nTeil 2: Kinder und Familien beraten (5 Tage) \nTeil 3: Arbeit mit neuro-divergenten Familien 5 Tage \nTeil 1\nDu lernst\, wie du Menschen gut beraten kannst.Du lernst über Psychologie.Du lernst\, wie du Menschen hilfst\, selber Lösungen zu finden.  \nTeil 2\nDu hörst mehr über die praktische Arbeit.Du lernst\, wie du Kinder\, Jugendliche und Familien berätst.Du bereitest dich auf die Prüfung vor. \nTeil 3\nDu lernst viel über Familien mit neuro-divergenten Kindern.Du lernst\, wie du Familien im All-Tag unter-stützt.Du lernst\, wie du Eltern und Kinder berätst.Du lernst\, wie du mit Schulen und anderen Stellen sprichst.Du arbeitest an Fall-Bei-Spielen.  \nWir arbeiten mit echten Fällen. Wir finden Lösungen.  Du sprichst mit der Gruppe darüber. \nDu bekommst: \n\nHilfe beim Kurs\nWissen und praktische Tipps\nViele Bei-Spiele\n\n  \nWer kann den Kurs machen?\nPerfekt für dich: \n\nWenn du mit Kindern oder Familien arbeiten möchtest\nWenn du mit Fall-Arbeit arbeitest\nWenn du Menschen in Firmen beraten möchtest\nWenn du in der Pflege arbeitest\nWenn du mit Menschen arbeitest\nWenn du Menschen unter-richtest\nWenn du in der Beratung arbeitest\nWenn du Menschen betreust\nWenn du Familien hilfst\nWenn du im Kinder-Garten arbeitest\nWenn du eine Fach-Person Betreuung bist (FaBe)\nWenn du in einem anderen Beruf arbeitest\n\n  \nWas lernst du?\nTeil 1:Beratung mit viel WissenLösungen in der BeratungSystemische Beratung (also auf das ganze Netz-Werk schauen)Wissen aus der Psychologie \nTeil 2:\nBeratung für Kinder\, Jugendliche und FamilienWissen über Familien und ihre EntwicklungBegleitung bei VeränderungenBeratung und Schulung für Familien        \nTeil 3:\nIst perfekt für: \nEltern und Menschen im Um-Feld: Familie und befreundete Menschen. \nFach-Kräfte Therapie-Personen\, Menschen aus den Bereichen Sozial-Arbeit\, Psychologie und Beratung. \nLehr-Kräfte: Fach-Kräfte für Unterricht und Aus-Bildung. \nBeratungs-Personen: Menschen\, die neuro-divergente Menschen und ihr Um-Feld beraten. \nMenschen in Kliniken und Praxen: Fach-Kräfte für Medizin\, Bewegung\, Sprache \nMenschen in Vereinen und Gemeinden: Menschen die gratis arbeiten. Menschen\, die neuro-divergenten Menschen helfen. \nAndere Fach-Leute: Menschen\, die neuro-divergente Menschen besser verstehen möchten. \nDu lernst:\nViel über Beratung von neuro-divergenten Personen\, Teams und Familien. \nTeil 1 \n\nDu weisst jetzt viel. Du kannst gut beraten.\nDu kannst gemeinsam gute Lösungen finden.\nDu kannst das Um-Feld mit-denken.\nDu kannst gute Gespräche führen.\nDu weisst\, dass die Welt für alle anders ist.\n\nTeil 2 \n\nBeratung für Kinder\, Jugendliche und Familien.\nNoch besser beraten.\nWissen über Familien und ihre Entwicklung\nBegleitung bei Veränderungen\nBeratung und Schulung für Familien\nDu kannst nach dem Kurs beraten.Du kannst Familien begleiten.\nDu kannst Kinder und Familien schulen.\n\nTeil 3 \n\nWissen über neuro-divergente Familien.\nWie du Familien im All-Tag unter-stützt\nWas ist Neuro-Divergenz?Was klappt gut?Was ist schwierig?\nGute Gespräche führen.Auch ohne Worte.\nFamilien stärken.Hilfe für mehr Verstehen.\nAll-Tag besser planen.Gute Über-Sicht im All-Tag. \nGut mit Konflikten um-gehen.\nStarb bleiben und werden.Schwieriges gut schaffen.\nHilfte gut nutzen.\nEltern helfen\, gut auf sich zu achten.\nRechte von Kindern kennen\nKunst und Musik nutzen.\n\n  \nWie lange muss ich lernen? \n220 Stunden Unterricht50 Stunden selbst lernen50 Stunden Lernen mit anderen120 Stunden für Prüfungen und Aufgaben \nPrüfungNach Teil 1 und Teil 2 gibt es je eine schriftliche Prüfung.Nach Teil 3 sprichst du in einem Fach-Gespräch über das Gelernte. \nFür Studien-Abschlüsse gibt es Regeln. Schreib uns\, wenn du Fragen hast! \nWas lernst du im Kurs?\nTeil 1: Grund-Kurs Beratung für alle (10 Tage)\nLies mehr im Info-Heft Grund-Kurs Beratung für alle. \n\nWie bin ich in der Beratung?\nLösungen in der Beratung?Stärken finden.\nUm-Feld mit-denken\nGute Gespräche führen\nWeiter-entwickeln\, mehr praktisches Wissen\nMenschen verstehen\nStark werden\, entspannt werden und selbst handeln\n\nDu lernst: \n\nGemeinsam Lösungen finden\nGut beraten\nSchwierige Gespräche\nBurn-Out vermeiden und bei Burn-Out helfen\nGute Gespräche\, gut mit Streit umgehen\n\n  \nTeil 2 – Kinder und Familien beraten\, 5 Tage\nTag 1: \n\nWas mache ich in der Beratung?Wen berate ich wie? \nInfos geheim halten\nPsychologie Familien \nWas ist ein System?\nVeränderung in Familien\n\n  \nTag 2 \n\nEltern werden: Schwanger sein\, Eltern sein\nVer-Bindung Eltern Kind \nBeratung für Kinder: Pubertät\, selbst-ständig werden\nGeschwister\n\n  \nTag 3  \n\nPaare: Wie war es früher? Wie ist es heute?\nGross-Eltern und Enkel-Kinder:\nRegen-Bogen-Familien: Familien mit 2 Frauen oder 2 Männern\n\n  \nTag 4  \n\nFamilien und Krankheit: Schwierige Gedanken\, Hilfe\nGewalt in der Familie\nScheidung und Trennung\n\n  \nTag 5  \n\nSterben und Trauer\nWie berate ich \nAlle brauchen etwas anderes: Wie kann ich alle gut beraten? Bei-Spiele aus der Praxis. \n\n  \nTeil 3 – Neuro-Divergente Familien (5 Tage)\nDu lernst\, wie du Kinder\, Jugendliche und Familien mit besonderen Bedürfnissen beraten kannst.Du lernst\, was bei Neuro-Divergenz wichtig ist.  \nTag 1: Was ist Neuro-Diversität? \n\nWas ist schwierig?\nADHS\, Autismus\, Lese-Schwäche\, Hoch-Sensibel und andere.\nWas heisst das für die Familie?\nWarten auf die Antwort: Bin ich neuro-divergent?\nWas habe ich schon erlebt?\n\n  \nTag 2: Gute Gespräche mit der Familie \n\nNoch besser zusammen sprechen\nZuhören. Sich anders mit-teilen\nAndere besser verstehen\nWas ist schwierig für Eltern?\nGut auf sich achten. Kraft finden.\n\n  \nTag 3: All-Tag und Schule gut schaffen \n\nAll-Tag gut planen\nPläne und spontan sein\nSchule: Mobbing\, alles ist zu viel\, die Menschen haben ein falsches Bild von mir\nGut mit Lehr-Kräften und der Schule sprechen\nRechte für neuro-divergente Kinder in der Schule\n\n  \nTag 4: Konflikte gut lösen\, stark bleiben \n\nWie kann ich Streit gut lösen?\nWas mache ich in schwierigen Lagen?\nKinder und Eltern: stark bleiben\nWas mache ich bei Stress und schwierigen Gefühlen?\nWie kann mein All-Tag aus-sehen?\n\n  \nTag 5: Prüfung und Abschluss \n\nDu schreibst oder machst eine Prüfung\nWelche Hilfe gibt es?\nKunst\, Musik und Bewegung als Hilfe für neuro-divergente Kinder\nDu sprichst darüber\, was du gelernt hast\nDu sagst uns\, wie der Kurs für dich war\n\n  \n  \nWie läuft der Kurs ab?\nVor Ort in Luterbach oder BalsthalOnline per ZoomVon 9 bis 16 Uhr \nOder du lernst selbst mit Online-Material. \n  \nDu kannst also zu uns kommen. Oder online dabei sein.\nPLI \n\nIndustriestrasse 30b\, 4542 Luterbach\nTiergartenweg 1\, 4710 Balsthal\n\n\nWas bekommst du?\nWenn du die Prüfung geschafft hast: \nDu kannst neuro-divergente Familien beraten.  \nDu kannst auch einen CAS\, DAS oder MAS machen. Das sind Studien-Abschlüsse. \nPrüfung\nFür die Prüfung gelten die Regeln von PLI \n\nAm Ende von Teil 1 und 2 machst du Prüfungen. Nach Teil 1 eine schriftliche und eine praktische. Und nach Teil 2 auch eine schriftliche und eine praktische.\nIm Teil 3 sprichst du mit dem Prüfungs-Team. Du machst ein Fach-Gespräch.\n\n  \nDas Info-Heft findest du hier.
URL:https://loesungs-impulse.ch/ls/kurse/cas-kinder-jugend-und-familiencoach-fuer-neurodivergente-familien-pli-start-15-08-2026-via-zoom-oder-selbststudium/
LOCATION:Praxis für Lösungs-Impulse AG\, Industriestrasse 30b\, 4542 Luterbach
CATEGORIES:CAS DAS MAS Lehrgänge,Kinder-, Jugend- und Familiencoach für neurodivergente Familien,Seminare
ATTACH;FMTTYPE=image/jpeg:https://loesungs-impulse.ch/wp-content/uploads/shutterstock_2006981468-scaled.jpg
ORGANIZER;CN="PLI":MAILTO:info@loesungs-impulse.ch
END:VEVENT
END:VCALENDAR