BEGIN:VCALENDAR
VERSION:2.0
PRODID:-//Praxis für Lösungs-Impulse AG - ECPv6.15.20//NONSGML v1.0//EN
CALSCALE:GREGORIAN
METHOD:PUBLISH
X-WR-CALNAME:Praxis für Lösungs-Impulse AG
X-ORIGINAL-URL:https://loesungs-impulse.ch
X-WR-CALDESC:Veranstaltungen für Praxis für Lösungs-Impulse AG
REFRESH-INTERVAL;VALUE=DURATION:PT1H
X-Robots-Tag:noindex
X-PUBLISHED-TTL:PT1H
BEGIN:VTIMEZONE
TZID:Europe/Zurich
BEGIN:DAYLIGHT
TZOFFSETFROM:+0100
TZOFFSETTO:+0200
TZNAME:CEST
DTSTART:20250330T010000
END:DAYLIGHT
BEGIN:STANDARD
TZOFFSETFROM:+0200
TZOFFSETTO:+0100
TZNAME:CET
DTSTART:20251026T010000
END:STANDARD
BEGIN:DAYLIGHT
TZOFFSETFROM:+0100
TZOFFSETTO:+0200
TZNAME:CEST
DTSTART:20260329T010000
END:DAYLIGHT
BEGIN:STANDARD
TZOFFSETFROM:+0200
TZOFFSETTO:+0100
TZNAME:CET
DTSTART:20261025T010000
END:STANDARD
BEGIN:DAYLIGHT
TZOFFSETFROM:+0100
TZOFFSETTO:+0200
TZNAME:CEST
DTSTART:20270328T010000
END:DAYLIGHT
BEGIN:STANDARD
TZOFFSETFROM:+0200
TZOFFSETTO:+0100
TZNAME:CET
DTSTART:20271031T010000
END:STANDARD
END:VTIMEZONE
BEGIN:VEVENT
DTSTART;VALUE=DATE:20260424
DTEND;VALUE=DATE:20261005
DTSTAMP:20260419T223123
CREATED:20250813T091433Z
LAST-MODIFIED:20260403T140957Z
UID:46015-1777017600-1791100799@loesungs-impulse.ch
SUMMARY:PLI COACHING®-AUSBILDUNG (Balsthal)\, Start 24.04.2026\, auch via Zoom
DESCRIPTION:Praxisorientiert/in 5 Monaten auch via Zoom \nAuch online im Selbststudium\, inkl. Dozentenbetreuung \nStärken: Anerkannt von den Verbänden Coach SCA\, betr. Mentor SCA/SKO\nWichtig: Verpasste Kurstermine können in einem Parallellehrgang besucht werden \nPraxis für Lösungs-Impulse AG (genannt PLI) vermittelt seit über 10 Jahren Wissen und Können\, das neue Qualitäten in beruflichen\, persönlichen und zwischenmenschlichen Situationen realisiert. \nUnser Fachgebiet ist\, besonders wirksame Methoden in einer praxiserprobten Coaching-Ausbildung zu vermitteln. Das Erlernte kann unmittelbar nach Kursbeginn im persönlichen und beruflichen Alltag erfolgreich umgesetzt werden. Wir konnten schon mehrere Hundert PLI-Absolvierenden zu ihrem Diplom führen. \nDas Anmeldeformular und weitere Informationen finden Sie im Infodossier.
URL:https://loesungs-impulse.ch/event/pli-coaching-ausbildung-balsthal-start-24-04-2026-auch-via-zoom/
LOCATION:Tiergartenweg 1\, 4710 Balsthal\, Tiergartenweg 1\, Balsthal\, Solothurn\, 4710\, Schweiz
CATEGORIES:PLI Coaching-Ausbildung
ATTACH;FMTTYPE=image/png:https://loesungs-impulse.ch/wp-content/uploads/businesscoachfemale4.png
ORGANIZER;CN="Praxis f%C3%BCr L%C3%B6sungs-Impulse AG":MAILTO:info@loesungs-impulse.ch
END:VEVENT
BEGIN:VEVENT
DTSTART;VALUE=DATE:20260427
DTEND;VALUE=DATE:20260822
DTSTAMP:20260419T223123
CREATED:20250813T092902Z
LAST-MODIFIED:20260403T141049Z
UID:46040-1777276800-1787299199@loesungs-impulse.ch
SUMMARY:Virtuelle Intensiv-Coaching-Ausbildung PLI®\, Start 27.04.2026\, via Zoom
DESCRIPTION:Virtuelle Intensiv-Coaching-Ausbildung\n IN 10 WOCHEN ÜBER ZOOM \nNeu: «Alle Bildungstage sind einerseits live vor Ort\, aber auch über Zoom absolvierbar. Wir führen alle Ausbildungen in dieser Hybridform durch. Dazu verfügen wir über die passende Infrastruktur\, sodass über Zoom Teilnehmende und die Teilnehmenden vor Ort einander sehen\, miteinander diskutieren und üben können.» \nInteressieren Sie sich seit jeher für Menschen und Psychologie? Möchten Sie lernen\, wie Sie sich und andere in schwierigen Zeiten und Veränderungsprozessen unterstützen und begleiten können? \nWir bieten Ihnen unsere PLI Coaching-Ausbildung über Zoom an. Gemütlich von zu Hause aus. Immer montags oder donnerstags. Sie entscheiden. \nAufbau:  \nPraxisorientierter Unterricht über Zoom: \nJede Woche 4 Stunden praxisorientierter Unterricht über Zoom. Wählen Sie die Termine innerhalb einer Woche frei aus 3 Terminoptionen aus. \nGruppenübergreifende Lerngruppe: \nJede Woche 2 Stunden üben in einer gruppenübergreifenden Lerngruppe\, ebenfalls über Zoom. Die Lerngruppen haben zum Ziel\, dass Fragen beantwortet\, Erfahrungen ausgetauscht und nach Wunsch Methoden geübt werden können. \nTotaler Aufwand pro Woche: 6 Stunden. \nTermine: \nJeweils montags     14:00h – 18:00h \noder montags          17:00h – 21:00h \noder donnerstags    18:00h – 22:00h \nLerngruppe: \nJeweils dienstags      19:00h – 21:00h \nVIRTUELLE INTENSIV-COACHING-AUSBILDUNG    \nPLI COACHING-Intensivausbildung\, 10 TAGE/5 MODULE\, MIT ABSCHLUSS ZUM «DIPL. COACH PLI» \nDie Daten sind individuell wählbar und können somit optimal Ihren Bedürfnissen angepasst werden. \nLimitierte Gruppen bis maximal 5 Personen oder einzeln\, um einen noch besseren Lerneffekt zu gewährleisten. \nDas Anmeldeformular und weitere Informationen finden Sie im Infodossier.
URL:https://loesungs-impulse.ch/event/virtuelle-intensiv-coaching-ausbildung-pli-start-27-04-2026-via-zoom/
LOCATION:Virtuell
CATEGORIES:PLI Coaching-Ausbildung
ATTACH;FMTTYPE=image/png:https://loesungs-impulse.ch/wp-content/uploads/businesscoachfemale4.png
ORGANIZER;CN="Praxis f%C3%BCr L%C3%B6sungs-Impulse AG":MAILTO:info@loesungs-impulse.ch
END:VEVENT
BEGIN:VEVENT
DTSTART;VALUE=DATE:20260427
DTEND;VALUE=DATE:20260603
DTSTAMP:20260419T223123
CREATED:20250926T075111Z
LAST-MODIFIED:20260403T150353Z
UID:48217-1777276800-1780387199@loesungs-impulse.ch
SUMMARY:Hochsensibilitätscoach PLI®\, Start 27.04.2026\, auch via Zoom/Selbststudium
DESCRIPTION:Hochsensibilitätscoach PLI® (auch als CAS/DAS/MAS in Neurodivergenz-Coaching und -Beratung\, mit Themenschwerpunkt Hochsensibilität PLI®)\nHochsensibilität ist ein Persönlichkeitsmerkmal\, das etwa 15–20 % der Bevölkerung betrifft. Menschen mit Hochsensibilität nehmen Reize aus ihrer Umgebung intensiver wahr und haben eine tiefere emotionale Empathie. Diese erhöhte Wahrnehmungsfähigkeit bringt sowohl besondere Stärken als auch Herausforderungen mit sich\, vor allem in einer reizüberfluteten\, schnellen Welt. \nDie Ausbildung zum Hochsensibilitätscoach vermittelt Ihnen das notwendige Wissen und die praktischen Fähigkeiten\, um hochsensible Menschen gezielt zu unterstützen. Sie lernen\, wie Sie ihre einzigartigen Stärken fördern und gleichzeitig helfen\, mit den Herausforderungen wie Reizüberflutung und emotionaler Erschöpfung umzugehen. \nAls Coach für Hochsensibilität leisten Sie einen wichtigen Beitrag zu einer inklusiveren und achtsameren Gesellschaft. Sie helfen dabei\, das Bewusstsein für Hochsensibilität zu schärfen und verhindern\, dass hochsensible Menschen sich für ihre Empfindsamkeit schämen oder gar als «zu empfindlich» abgewertet werden. Stattdessen fördern Sie Selbstverständnis und Selbstakzeptanz\, was den Weg für mehr innere Ruhe\, Klarheit und Lebensfreude ebnen kann. \n1. Vorteile und Nutzen der Ausbildung\n\nSpezialisierung: Sie werden als zertifizierter Hochsensibilitätscoach eine nischenorientierte Expertise aufbauen.\n\n\nBerufliche Weiterentwicklung: Diese Ausbildung erweitert Ihr Coaching-Portfolio und ermöglicht es Ihnen\, gezielt mit hochsensiblen Menschen zu arbeiten.\n\n\nPraktische Anwendung: Durch zahlreiche Übungen und Fallbeispiele können Sie Ihr Wissen direkt anwenden und sicher im Coaching-Prozess agieren.\n\nZielgruppe\nDieser Lehrgang ist geeignet für\, \n\nCoaches\nTherapiefachkräfte\nFachkräfte im Gesundheitsbereich\nPädagogische Fachkräfte\nBetroffene\n\nLernziele\n\nFundiertes Verständnis der Hochsensibilität (SPS) und ihrer neurobiologischen Grundlagen\nErlernen praxisnaher Coaching-Methoden zur Unterstützung Hochsensibler\nStrategien zur Reizregulation\, emotionalen Selbststärkung & Resilienz\nEin spezifischer Tag zur Reflexion der Verbindung von Hochsensibilität & Neurodivergenz\n\nInhalte\nTag 1: \n\nHochsensibilität – Wissenschaftliche Grundlagen & Neurobiologie: Definition & wissenschaftliche Grundlagen (Elaine Aron: Sensory Processing Sensitivity – SPS)\, Unterschiede zu Hypersensitivität\, Sensory Processing Disorder & Stressintoleranz\nNeurobiologische Grundlagen: Verstärkte Aktivität in sensorischen & emotionalen Gehirnarealen\, Cortisol\, Adrenalin & Stressreaktionen bei Hochsensiblen\, Hochsensibilität in verschiedenen Altersgruppen (Kinder\, Erwachsene\, ältere Menschen)\nSelbsterfahrung & Coaching-Grundlagen: Selbstreflexion: Wo befinde ich mich auf dem Sensibilitätsspektrum?\, Abgrenzung von Hochsensibilität zu Trauma & emotionaler Dysregulation\, erste Coaching-Methoden: Gesprächsführung mit Hochsensiblen\, erste Stabilisierungstechniken\n\n  \nTag 2: \n\nHochsensible Wahrnehmung & Reizverarbeitung\, sensorische Verarbeitung & individuelle Unterschiede: Wie erleben hochsensible Menschen die Welt?\, hochsensible Sinnesverarbeitung: auditive\, visuelle\, taktile & olfaktorische Empfindlichkeit\, Strategien für sensorische Reizreduktion\, Zusammenhang zwischen Nervensystem & Hochsensibilität (Polyvagal-Theorie nach Porges)\nPraxis – Wahrnehmungs- & Körperübungen\, Sensorikübungen: Wie reagiert mein Körper auf verschiedene Reize?\, Achtsamkeit & Erdungstechniken für Hochsensible\, Coaching-Techniken zur Reizregulation:\, körperbasierte Methoden zur Beruhigung\, Anpassung der Umwelt für hochsensible Menschen\n\n  \nTag3: \n\nHochsensibilität & Neurodivergenz – Gemeinsamkeiten & Unterschiede (Hier liegt der Fokus auf der Verbindung zwischen Hochsensibilität und Neurodivergenz mit der Überleitung zu den ADHS-/ASS-Lehrgängen\, CAS/DAS/Aufbaustudium Ernährung/Gesundheit.)\nHochsensibilität im Kontext von ADHS & Autismus: Unterschiede & Überschneidungen\, Hochsensibilität vs. sensorische Besonderheiten bei ADHS & Autismus\, Forschung von Tony Attwood zu sensorischer Verarbeitung bei Autismus\, neurodivergente Wahrnehmung vs. hochsensible Wahrnehmung: ADHS: Reizoffenheit\, Impulsivität & emotionale Intensität\, Autismus: Detailfokus\, sensorische Hypersensitivität & soziale Überforderung\, wie wirkt sich Neurodivergenz auf Hochsensibilität aus?\nPraxis – Coaching hochsensibler & neurodivergenter Menschen: Coaching-Methoden für neurodivergente Hochsensible\, Techniken zur Anpassung von Reizverarbeitung & Stressregulation\, Abgrenzung & Selbstfürsorge als neurodivergente Hochsensible\n\n  \nTag 4: \n\nEmotionale Hochsensibilität & Resilienz\, emotionale Intensität & Stressbewältigung: Warum fühlen Hochsensible «tiefer»?\, Hochsensibilität Frau & Mann\, Neurobiologie der Emotionen & Hochsensibilität\, Stressresistenz & Resilienz fördern bei Hochsensiblen\nPraxis – Emotionscoaching & Regulationstechniken: Achtsamkeit & Co-Regulation für Hochsensible\, Techniken zur Stabilisierung bei Überforderung (Safe Spaces\, sensorische Anker\, Emotionsregulation)\, Grenzsetzung & Selbstschutz für hochsensible Menschen\n\n  \nTag 5: \n\nHochsensibilität als Ressource & Coaching-Vertiefung: Hochsensibilität als Stärke nutzen: Kreativität\, Intuition & Innovationskraft bei Hochsensibilität\, berufliche Perspektiven & Herausforderungen für Hochsensible\, Stärken-Orientierung im Coaching mit Hochsensiblen\nSupervision & Fallarbeit: Fallsupervision: Arbeit an konkreten Coaching-Fällen\, Reflexion & individuelle Coaching-Strategien entwickeln\, Zertifikatsvergabe & Abschlussrunde\n\n  \nZusätzliche Inhalte & Materialien \n\nSkript mit wissenschaftlichen Quellen & Praxistools\nCoaching-Methoden für den Alltag\n\n  \nAbsolvierungsmöglichkeiten\nPräsenzunterricht – Teilnahme vor Ort oder per Zoom\, jeweils von 09:00 – 16:00 Uhr \nOnline – Selbststudium mit persönlicher Begleitung durch Dozententeam \nDurchführungsorte\nVor Ort\, via Zoom oder mit unserer beliebten Online-Version \n\nPraxis für Lösungs-Impulse AG\, Industriestrasse 30b\, 4542 Luterbach\n\n  \nTitel\nMit der Absolvierung unseres themenspezifischen Zertifikatslehrganges sind Sie berechtigt\, folgenden markenrechtlich geschützten Titel zu tragen: \n\nHochsensibilitätscoach PLI® \nCAS in Neurodivergenz-Coaching und -Beratung\, mit Themenschwerpunkt Hochsensibilität PLI®\n\n\nDas Anmeldeformular sowie weitere Informationen finden Sie im Infodossier.
URL:https://loesungs-impulse.ch/event/hochsensibilitaetscoach-pli-start-27-04-2026-auch-via-zoom-selbststudium/
LOCATION:Praxis für Lösungs-Impulse AG\, Industriestrasse 30b\, 4542 Luterbach
CATEGORIES:Hochsensibilitätscoach
ATTACH;FMTTYPE=image/jpeg:https://loesungs-impulse.ch/wp-content/uploads/shutterstock_2459475815-scaled.jpg
ORGANIZER;CN="Praxis f%C3%BCr L%C3%B6sungs-Impulse AG":MAILTO:info@loesungs-impulse.ch
END:VEVENT
END:VCALENDAR