BEGIN:VCALENDAR
VERSION:2.0
PRODID:-//Praxis für Lösungs-Impulse AG - ECPv6.15.20//NONSGML v1.0//EN
CALSCALE:GREGORIAN
METHOD:PUBLISH
X-ORIGINAL-URL:https://loesungs-impulse.ch
X-WR-CALDESC:Veranstaltungen für Praxis für Lösungs-Impulse AG
REFRESH-INTERVAL;VALUE=DURATION:PT1H
X-Robots-Tag:noindex
X-PUBLISHED-TTL:PT1H
BEGIN:VTIMEZONE
TZID:Europe/Zurich
BEGIN:DAYLIGHT
TZOFFSETFROM:+0100
TZOFFSETTO:+0200
TZNAME:CEST
DTSTART:20250330T010000
END:DAYLIGHT
BEGIN:STANDARD
TZOFFSETFROM:+0200
TZOFFSETTO:+0100
TZNAME:CET
DTSTART:20251026T010000
END:STANDARD
BEGIN:DAYLIGHT
TZOFFSETFROM:+0100
TZOFFSETTO:+0200
TZNAME:CEST
DTSTART:20260329T010000
END:DAYLIGHT
BEGIN:STANDARD
TZOFFSETFROM:+0200
TZOFFSETTO:+0100
TZNAME:CET
DTSTART:20261025T010000
END:STANDARD
BEGIN:DAYLIGHT
TZOFFSETFROM:+0100
TZOFFSETTO:+0200
TZNAME:CEST
DTSTART:20270328T010000
END:DAYLIGHT
BEGIN:STANDARD
TZOFFSETFROM:+0200
TZOFFSETTO:+0100
TZNAME:CET
DTSTART:20271031T010000
END:STANDARD
END:VTIMEZONE
BEGIN:VEVENT
DTSTART;TZID=Europe/Zurich:20260515T170000
DTEND;TZID=Europe/Zurich:20260516T200000
DTSTAMP:20260424T112817
CREATED:20250815T105016Z
LAST-MODIFIED:20260403T140439Z
UID:46543-1778864400-1778961600@loesungs-impulse.ch
SUMMARY:Zertifikatslehrgang  «Unterricht für Erwachsene gestalten PLI®»\, 15.05.2026\, auch via Zoom
DESCRIPTION:Seminar «Unterricht für Erwachsene gestalten PLI®» (2 Tage)\nDieser Lehrgang ist an Personen gerichtet\, \n\ndie bereits Seminare und Workshops planen und durchführen\, dazu jedoch über keine Ausbildung verfügen.\ndie lernen möchten\, wie man selber Seminare und Workshops planen und durchführen kann.\n\n  \nDie Teilnehmenden \n\nlernen\, Seminare\, Workshops und Lehrgänge zu definieren\, zu planen\, durchzuführen und zu evaluieren\n\n  \nInhalte von der Grob- zur Feinplanung \n\nTitel\, Art (Workshop\, Seminar\, Lehrgang?)\nZielgruppe definieren und ansprechen\, wem will ich etwas vermitteln\nLänge\, Dauer\, Inhalte\, Preis\, Dozierende\, Räumlichkeiten\, Unterlagen\, Bewerbung\, Durchführung\, Evaluation des Erfolgs (Qualität – Zufriedenheit)\n\n  \nErstellung von Unterlagen \n\nDefinition der Inhalte\, woher nehme ich diese\, Umfang\, Quellen\nWie definiere ich Lernziele\nWie vermittle ich die Inhalte\, verschiedene Präsentationstechniken\n\n  \nDie Rolle als Kursleitung oder dozierende Person\, inkl. Aufgaben\, Risiken und Abgrenzungen\, den Unterricht interaktiv gestalten \n\nWie gestalte ich einen Unterrichtstag lebendig und spannend\n\n  \nUmgang mit Konflikten \n  \nSeminar «Unterricht für Erwachsene gestalten PLI®» \nWeitere Informationen finden Sie im Infodossier.
URL:https://loesungs-impulse.ch/event/zertifikatslehrgang-unterricht-fuer-erwachsene-gestalten-pli-15-05-2026-auch-via-zoom/
LOCATION:Praxis für Lösungs-Impulse AG\, Industriestrasse 30b\, 4542 Luterbach
CATEGORIES:Erwachsenenbildung lernen,Zertifikatslehrgänge
ATTACH;FMTTYPE=image/png:https://loesungs-impulse.ch/wp-content/uploads/casemanager1.png
ORGANIZER;CN="Praxis f%C3%BCr L%C3%B6sungs-Impulse AG":MAILTO:info@loesungs-impulse.ch
END:VEVENT
END:VCALENDAR