BEGIN:VCALENDAR
VERSION:2.0
PRODID:-//Praxis für Lösungs-Impulse AG - ECPv6.15.20//NONSGML v1.0//EN
CALSCALE:GREGORIAN
METHOD:PUBLISH
X-ORIGINAL-URL:https://loesungs-impulse.ch
X-WR-CALDESC:Veranstaltungen für Praxis für Lösungs-Impulse AG
REFRESH-INTERVAL;VALUE=DURATION:PT1H
X-Robots-Tag:noindex
X-PUBLISHED-TTL:PT1H
BEGIN:VTIMEZONE
TZID:Europe/Zurich
BEGIN:DAYLIGHT
TZOFFSETFROM:+0100
TZOFFSETTO:+0200
TZNAME:CEST
DTSTART:20250330T010000
END:DAYLIGHT
BEGIN:STANDARD
TZOFFSETFROM:+0200
TZOFFSETTO:+0100
TZNAME:CET
DTSTART:20251026T010000
END:STANDARD
BEGIN:DAYLIGHT
TZOFFSETFROM:+0100
TZOFFSETTO:+0200
TZNAME:CEST
DTSTART:20260329T010000
END:DAYLIGHT
BEGIN:STANDARD
TZOFFSETFROM:+0200
TZOFFSETTO:+0100
TZNAME:CET
DTSTART:20261025T010000
END:STANDARD
BEGIN:DAYLIGHT
TZOFFSETFROM:+0100
TZOFFSETTO:+0200
TZNAME:CEST
DTSTART:20270328T010000
END:DAYLIGHT
BEGIN:STANDARD
TZOFFSETFROM:+0200
TZOFFSETTO:+0100
TZNAME:CET
DTSTART:20271031T010000
END:STANDARD
END:VTIMEZONE
BEGIN:VEVENT
DTSTART;VALUE=DATE:20260811
DTEND;VALUE=DATE:20260826
DTSTAMP:20260424T192729
CREATED:20250815T125110Z
LAST-MODIFIED:20260403T125057Z
UID:46615-1786435200-1787644799@loesungs-impulse.ch
SUMMARY:Zertifikatslehrgang zum Anti-Mobbing-Coach PLI\, Abendseminar\, Start 11.08.2026\, auch via Zoom
DESCRIPTION:Zertifikatslehrgang zum Anti-Mobbing-Coach\nMobbing ist ein sehr häufiges Thema\, kommt oft in Schulen und am Arbeitsplatz vor. Betroffene fühlen sich während einer langen Zeit hilflos\, allein\, verzweifelt. In unserem Zertifikatslehrgang zum Anti-Mobbing-Coach lernen Sie\, wie Sie Betroffene so stabilisieren und stärken können\, dass diese immun gegen Mobbing-Aktivitäten werden. \nDer Lehrgang beinhaltet unter vielem anderem folgende Themen: \n\nWoher kommt der Begriff «Mobbing»?\nWas genau gilt als Mobbing?\nWelche Arten von Mobbing gibt es?\nErste Anzeichen\nWer genau ist gefährdet? Ein typisches «Opferprofil»\nEin typisches «Täterprofil»\nWer sind die Mitläufer\nMobbing in der Schule\nMobbing am Arbeitsplatz\nRechtliche Grundlagen\nErlernen Sie zahlreiche Tools\, welche sich im Anti-Mobbing-Coaching bei Betroffenen aller Altersstufen besonders gut eignen\n\n  \nWeitere Informationen finden Sie im Infodossier.
URL:https://loesungs-impulse.ch/event/zertifikatslehrgang-zum-anti-mobbing-coach-pli-abendseminar-start-11-08-2026-auch-via-zoom/
CATEGORIES:Zertifikatslehrgänge
ATTACH;FMTTYPE=image/jpeg:https://loesungs-impulse.ch/wp-content/uploads/shutterstock_1868351077-scaled.jpg
ORGANIZER;CN="Praxis f%C3%BCr L%C3%B6sungs-Impulse AG":MAILTO:info@loesungs-impulse.ch
END:VEVENT
END:VCALENDAR